BEGIN:VCALENDAR
VERSION:2.0
PRODID:-//Económicas UBA - ECPv6.15.20//NONSGML v1.0//EN
CALSCALE:GREGORIAN
METHOD:PUBLISH
X-WR-CALNAME:Económicas UBA
X-ORIGINAL-URL:https://economicas.uba.ar
X-WR-CALDESC:Events for Económicas UBA
REFRESH-INTERVAL;VALUE=DURATION:PT1H
X-Robots-Tag:noindex
X-PUBLISHED-TTL:PT1H
BEGIN:VTIMEZONE
TZID:America/Argentina/Buenos_Aires
BEGIN:STANDARD
TZOFFSETFROM:-0300
TZOFFSETTO:-0300
TZNAME:-03
DTSTART:20230101T000000
END:STANDARD
END:VTIMEZONE
BEGIN:VEVENT
DTSTART;TZID=America/Argentina/Buenos_Aires:20240806T000000
DTEND;TZID=America/Argentina/Buenos_Aires:20240808T235959
DTSTAMP:20260425T235536
CREATED:20240624T151519Z
LAST-MODIFIED:20240624T151520Z
UID:3200-1722902400-1723161599@economicas.uba.ar
SUMMARY:RECEPCIÓN DE DECLARACIONES JURADAS
DESCRIPTION:PARA INGRESANTES AL 2°TRAMO CICLO GENERAL \n(Sólo en Centros Regionales Avellaneda\, San Isidro\, Paternal\, Pilar y de La Costa) \nSegundo Cuatrimestre \nDel martes 06 de Agosto al jueves 08 de Agosto
URL:https://economicas.uba.ar/event/recepcion-de-declaraciones-juradas-2/
CATEGORIES:Agenda,Alumnos,Calendario24
END:VEVENT
END:VCALENDAR