BEGIN:VCALENDAR
VERSION:2.0
PRODID:-//Económicas UBA - ECPv6.15.20//NONSGML v1.0//EN
CALSCALE:GREGORIAN
METHOD:PUBLISH
X-WR-CALNAME:Económicas UBA
X-ORIGINAL-URL:https://economicas.uba.ar
X-WR-CALDESC:Events for Económicas UBA
REFRESH-INTERVAL;VALUE=DURATION:PT1H
X-Robots-Tag:noindex
X-PUBLISHED-TTL:PT1H
BEGIN:VTIMEZONE
TZID:America/Argentina/Buenos_Aires
BEGIN:STANDARD
TZOFFSETFROM:-0300
TZOFFSETTO:-0300
TZNAME:-03
DTSTART:20220101T000000
END:STANDARD
END:VTIMEZONE
BEGIN:VEVENT
DTSTART;TZID=America/Argentina/Buenos_Aires:20260416T093000
DTEND;TZID=America/Argentina/Buenos_Aires:20260416T210000
DTSTAMP:20260419T200029
CREATED:20260219T180343Z
LAST-MODIFIED:20260413T125432Z
UID:11673-1776331800-1776373200@economicas.uba.ar
SUMMARY:EconTech
DESCRIPTION:Conectá con el futuro de las Ciencias Económicas \n\n\n\n\nUn evento que une innovación\, competencias profesionales y experiencias interactivas para mostrar cómo la tecnología está transformando el mundo de las Ciencias Económicas. \n\n\n\nUn recorrido para  conectar talento\, tecnología y transformación digital. \n\n\n\n\n16 DE ABRIL | |09.30 A 21 HS. \n\n\n\nSPEAKERS \n\n\n\nPANEL DE PROFESIONALES \n\n\n\nWORKSHOPS \n\n\n\nFERIA DE EMPLEO \n\n\n\n \n\n\n\nVer cronograma completo\n\n\n\n \n\n\n\n\n\n\n\n \n\n\n\n> inscribite <
URL:https://economicas.uba.ar/event/econtech/
CATEGORIES:Destacados
ATTACH;FMTTYPE=image/jpeg:https://economicas.uba.ar/wp-content/uploads/EconTech-bannerweb.jpg
END:VEVENT
BEGIN:VEVENT
DTSTART;TZID=America/Argentina/Buenos_Aires:20260212T000000
DTEND;TZID=America/Argentina/Buenos_Aires:20260218T233000
DTSTAMP:20260419T200029
CREATED:20260130T191902Z
LAST-MODIFIED:20260202T153637Z
UID:11076-1770854400-1771457400@economicas.uba.ar
SUMMARY:INSCRIPCIÓN A CURSOS PRIMER CUATRIMESTRE
DESCRIPTION:Modalidades Presencial\, A Distancia\, Magistral y Virtual2° Tramo Ciclo General y Ciclo Profesional \n\n\n\nInscripciones solamente por internet desde mi.econ.uba.ar (En caso de inconvenientes concurrir al Depto. Alumnos dentro de los días de inscripción). \n\n\n\nPrimera Inscripción:Jue 12 al Mie 18 de Febrero• Internet: desde el 12/02 a las 08 hs. hasta el 18/02 a las 20 hs. ininterrumpidamente. \n\n\n\nPublicación de Resultados: Solo en servicios.econ.uba.ar/alumnos (horario de clases)Jue 26 de Febrero \n\n\n\nCobertura de Vacantes (SOLO PRESENCIALES):Vie 27 de Febrero al Lun 02 de Marzo• Internet: desde el 27/02 a las 08 hs. hasta el 02/03 a las 20 hs. Ininterrumpidamente. \n\n\n\nPublicación de Resultados: Solo en servicios.econ.uba.ar/alumnos (horario de clases)Vie 06 de Marzo \n\n\n\nComienzo del Cuatrimestre Presencial: Jue 12 / 03 / 2026 \n\n\n\nDictado de Clases Presenciales: del 12 / 03 al 03 / 07 / 2026 \n\n\n\nCobertura de Vacantes (A DISTANCIA\, MAGISTRAL Y VIRTUAL):Lun 09 al Mar 10 de Marzo• Internet: desde el 09/03 a las 08 hs. hasta el 10/03 a las 20 hs. ininterrumpidamente. \n\n\n\nPublicación de Resultados: Solo en servicios.econ.uba.ar/alumnos (horario de clases)Vie 13 de Marzo \n\n\n\nDesarrollo de Clases Distancia\, Magistral y Virtual: del 17 / 03 al 04 / 07 / 2026 \n\n\n\nFinalización del Cuatrimestre PRESENCIAL\, DISTANCIA\, MAGISTRAL Y VIRTUAL:Vie 03 / 07 / 2026
URL:https://economicas.uba.ar/event/inscripcion-a-cursos-primer-cuatrimestre/
CATEGORIES:Alumnos,Calendario26,Destacados
END:VEVENT
BEGIN:VEVENT
DTSTART;TZID=America/Argentina/Buenos_Aires:20251219T120000
DTEND;TZID=America/Argentina/Buenos_Aires:20251219T140000
DTSTAMP:20260419T200029
CREATED:20251216T131555Z
LAST-MODIFIED:20251216T131556Z
UID:10823-1766145600-1766152800@economicas.uba.ar
SUMMARY:Entrega de Premios a la Trayectoria Destacada Edición 2025
DESCRIPTION:El próximo viernes a las 12 hs. se realizará la entrega de Premios a la Trayectoria Destacada Edición 2025 a docentes de nuestra Casa. \n\n\n\nEl acto estará encabezado por el decano de nuestra facultad\, el Profesor Emérito Dr. Ricardo J. M. Pahlen\, y la Secretaria Académica\, Natalia Guidolín. \n\n\n\nLos premiados serán: \n\n\n\nRoxana MaurizioPor el área de EconomíaJuan Carlos Gómez FulaoPor el área de AdministraciónElsa Suárez KimuraPor el área de ContabilidadDomingo MacriniPor el área de ContabilidadJavier García FrontiPor el área de MatemáticaCecilia OrioloPor el área de SistemasRubén MalvitanoPor el área de TributaciónJorge GebhardtPor el área de Tributación\n\n\n\nGracias a todos ellos por el trabajo diario para formar a las nuevas generaciones y seguir construyendo una facultad de calidad.
URL:https://economicas.uba.ar/event/entrega-de-premios-a-la-trayectoria-destacada-edicion-2025/
CATEGORIES:Alumnos,Destacados
END:VEVENT
BEGIN:VEVENT
DTSTART;TZID=America/Argentina/Buenos_Aires:20251202T080000
DTEND;TZID=America/Argentina/Buenos_Aires:20251231T170000
DTSTAMP:20260419T200029
CREATED:20251202T124609Z
LAST-MODIFIED:20251202T124831Z
UID:10516-1764662400-1767200400@economicas.uba.ar
SUMMARY:Festejos Responsables
DESCRIPTION:Festejá con responsabilidad y recibite con un diez 🎓 \n\n\n\nEmpieza la época de egresos y en UBA Económicas tenemos una propuesta para vos: cambiá los alimentos que usás para festejar por kits de cotillón. \n\n\n\nEste Programa tiene como objetivo reducir el impacto ambiental y generar un bien social. ♻️ \n\n\n\nSe estima que se desperdician 2 kilos de comida por cada estudiante que se recibe\, lo que equivale a 6000 kilos al año. \n\n\n\nSi te estás por recibir\, o tenés un familiar o amigo próximo a hacerlo\, acercate a nuestro punto de canje. \n\n\n\nEn la puerta de la Facultad 🏛️De 9 a 12 y de 16:30 a 19:30 \n\n\n\nSeamos responsables para festejar todos🥚🥫🔛🎊🎉
URL:https://economicas.uba.ar/event/festejos-responsables/
CATEGORIES:Alumnos,Destacados
END:VEVENT
BEGIN:VEVENT
DTSTART;TZID=America/Argentina/Buenos_Aires:20251119T143000
DTEND;TZID=America/Argentina/Buenos_Aires:20251119T200000
DTSTAMP:20260419T200029
CREATED:20251113T202318Z
LAST-MODIFIED:20251121T182415Z
UID:9732-1763562600-1763582400@economicas.uba.ar
SUMMARY:CONFERENCIA | Una Argentina productiva posible
DESCRIPTION:Más allá de los recursos naturales hay una Argentina productiva dinámica y moderna\, con empresas que exportan productos diferenciados y complejos. Conocerla es el primer paso para potenciarla mediante políticas públicas. Esa es la discusión que se viene. \n\n\n\nEl miércoles 19 de noviembre se llevó a cabo una jornada de 14.30 a 20hs donde “Una Argentina productiva posible” fue el tema central. Le compartimos la agenda que vivimos y algunos momentos fotográficos \n\n\n\nAgenda\n\n\n\n● 14:30 – Palabras de apertura: José Luis Giusti (UBA) y Andrés López (IIEP UBA-CONICET). \n\n\n\n● 14:45–15:30 – Panel: Vías de agregado de valor para la internacionalización productiva. Participan: Guillermo Abratte (TT-global)\, Verónica Asla (EY)\, Melina Martelli (IMS)\, Alejandro Schejtman (Bedson). Modera: Martín Alfie (CFI). \n\n\n\n● 15:30–16:30 – Panel: El desafío del desarrollo productivo en Argentina.Participan: Daiana Fernández Molero (Diputada nacional)\, Matías Kulfas (ex ministro de Desarrollo Productivo)\, Martín Lousteau (Senador nacional)\, Martín Rapetti (Equilibra). Modera: Alan Clutterbuck (RAP). \n\n\n\n● 16:45–17:30 – Panel: Oportunidades en industrias de alta complejidad tecnológica. Participan: María Eugenia Farias (Puna Bio)\, Diego Martins (Globant)\, Ángel Pérez Pulleti (Baufest). Modera: Ricky Negri (ex presidente SENASA\, ex secretario de Agricultura\, Ganadería y Pesca de la Nación). \n\n\n\n● 17:30–18:15 – Presentación: Avances del proyecto “Hacia una estrategia de desarrollo productivo para la Argentina”\, a cargo de Juan Carlos Hallak (FCE-UBA) y Andrés López (IIEP). \n\n\n\n● 18:35–19:45 – Panel: Políticas públicas para el desarrollo productivo.Participan: Rogelio Frigerio (Gobernador de Entre Ríos)\, Pablo Lavigne (Secretaría de Coordinación de la Producción)\, Guillermo Acosta (Ministro de Economía y de la Gestión Pública de la Provincia de Córdoba)\, Maximiliano Pullaro (Gobernador de Santa Fe)\, Horacio Rodríguez Larreta (ex Jefe de Gobierno de CABA). Modera: Luciana Vázquez (La Nación). \n\n\n\n● 19:45 – Cierre: Juan Carlos Hallak (FCE-UBA). \n\n\n\n \n\n\n\n \n\n\n\nA quién estuvo dirigida \n\n\n\nDecisores de políticas públicas\, comunidad académica\, directivos y equipos de empresas exportadoras o con potencial exportador\, medios especializados en economía y negocios. \n\n\n\n¿Por qué fue relevante? \n\n\n\nLa jornada puso el foco en visibilizar la existencia de empresas que se insertan en la economía global a través de la diferenciación y la innovación en los más diversos sectores de actividad. La Argentina productiva del futuro necesita multiplicar esas experiencias articulando Estado\, academia y empresas en un mismo espacio de trabajo del cual surjan visiones y estrategias comunes que se traduzcan en políticas concretas. \n\n\n\nContacto IIEP: Andrea González\, proydesarrollo@economicas.uba.ar | +54 11 3808-6983. \n\n\n\n\n\n\n\nAsí vivimos la Conferencia “Una Argentina productiva posible” en UBA Económicas \n\n\n\nDurante toda una jornada pasaron por nuestra facultad gobernadores\, empresarios\, legisladores nacionales\, funcionarios y ex funcionarios\, académicos y cientos de estudiantes y graduados para pensar juntos el futuro del país. \n\n\n\nEn distintos paneles debatimos sobre las oportunidades en la incorporación de tecnología\, el perfil productivo y exportador que debe tener la Argentina y las políticas públicas necesarias para hacerlo posible. \n\n\n\nSeguimos impulsando espacios académicos para el intercambio de ideas y la búsqueda de consensos que permitan generar desarrollo en el país. Ese es uno de nuestros roles como universidad pública y vamos a continuar trabajando en ese camino. \n\n\n\n\n\n\n\n\n\n\n\n\n\n\n\n\n\n\n\n\n\n\n\n\n\nDurante toda una jornada pasaron por nuestra facultad gobernadores\, empresarios\, legisladores nacionales\, funcionarios y ex funcionarios\, académicos y cientos de estudiantes y graduados para pensar juntos el futuro del país. \n\n\n\nEn distintos paneles debatimos sobre las oportunidades en la incorporación de tecnología\, el perfil productivo y exportador que debe tener la Argentina y las políticas públicas necesarias para hacerlo posible. \n\n\n\nSeguimos impulsando espacios académicos para el intercambio de ideas y la búsqueda de consensos que permitan generar desarollo en el país. Ese es uno de nuestros roles como universidad pública y vamos a continuar trabajando en ese camino.
URL:https://economicas.uba.ar/event/conferencia-una-argentina-productiva-posible/
CATEGORIES:Destacados
ATTACH;FMTTYPE=image/jpeg:https://economicas.uba.ar/wp-content/uploads/argentina-productiva-web.jpg
END:VEVENT
BEGIN:VEVENT
DTSTART;TZID=America/Argentina/Buenos_Aires:20251117T183000
DTEND;TZID=America/Argentina/Buenos_Aires:20251117T183000
DTSTAMP:20260419T200029
CREATED:20251113T202556Z
LAST-MODIFIED:20251113T203556Z
UID:9731-1763404200-1763404200@economicas.uba.ar
SUMMARY:Intercambio Internacional para Estudiantes de Grado
DESCRIPTION:Charla informativa: Intercambio Internacional para Estudiantes de Grado \n\n\n\n¿Sabías que tenemos convenios con más de 70 universidades de todo el mundo donde podés realizar un Intercambio Académico Internacional? \n\n\n\nLa Secretaría de Relaciones Académicas Internacionales\, junto con el CECE\, te invitan a participar de una charla informativa sobre las oportunidades de Movilidad Académica para Estudiantes de Grado\, donde podrás conocer los programas disponibles para realizar estancias de internacionalización en universidades de todo el mundo. \n\n\n\nLunes 17 de Noviembre \n\n\n\n18:30 hs.   \n\n\n\nSalón de Actos\, 2° piso – Av. Córdoba Nº 2122
URL:https://economicas.uba.ar/event/intercambio-internacional-para-estudiantes-e-grado/
CATEGORIES:Destacados
END:VEVENT
BEGIN:VEVENT
DTSTART;VALUE=DATE:20240418
DTEND;VALUE=DATE:20240419
DTSTAMP:20260419T200029
CREATED:20240416T150553Z
LAST-MODIFIED:20240514T174435Z
UID:2251-1713398400-1713484799@economicas.uba.ar
SUMMARY:Los fundamentos del pensamiento libertario de Murray Rothbard
DESCRIPTION:
URL:https://economicas.uba.ar/event/los-fundamentos-del-pensamiento-libertario-de-murray-rothbard/
CATEGORIES:Agenda,Destacados,Investigación
ATTACH;FMTTYPE=image/jpeg:https://economicas.uba.ar/wp-content/uploads/inv04.jpg
END:VEVENT
BEGIN:VEVENT
DTSTART;VALUE=DATE:20240416
DTEND;VALUE=DATE:20240417
DTSTAMP:20260419T200029
CREATED:20240129T135320Z
LAST-MODIFIED:20240416T144914Z
UID:2094-1713225600-1713311999@economicas.uba.ar
SUMMARY:Inscripción Diplomaturas UBA
DESCRIPTION:Conocé e inscribite en nuestras Diplomaturas. Ir a la web
URL:https://economicas.uba.ar/event/inscripcion-diplomaturas-uba/
CATEGORIES:Agenda,Destacados
ATTACH;FMTTYPE=image/jpeg:https://economicas.uba.ar/wp-content/uploads/1702307973wdiplomaturainscrpcion2024.jpg
END:VEVENT
BEGIN:VEVENT
DTSTART;VALUE=DATE:20231229
DTEND;VALUE=DATE:20240201
DTSTAMP:20260419T200029
CREATED:20240129T113238Z
LAST-MODIFIED:20240129T134506Z
UID:2063-1703808000-1706745599@economicas.uba.ar
SUMMARY:Receso Funcional Administrativo
DESCRIPTION:Establecer receso funcional administrativo 29-12-23 al 31-1-24
URL:https://economicas.uba.ar/event/receso/
CATEGORIES:Agenda,Destacados
ATTACH;FMTTYPE=image/jpeg:https://economicas.uba.ar/wp-content/uploads/1703173819WRECESO.jpg
END:VEVENT
END:VCALENDAR