BEGIN:VCALENDAR
VERSION:2.0
PRODID:-//IIEP UBA-CONICET - ECPv6.15.20//NONSGML v1.0//EN
CALSCALE:GREGORIAN
METHOD:PUBLISH
X-ORIGINAL-URL:https://economicas.uba.ar/iiep
X-WR-CALDESC:Eventos para IIEP UBA-CONICET
REFRESH-INTERVAL;VALUE=DURATION:PT1H
X-Robots-Tag:noindex
X-PUBLISHED-TTL:PT1H
BEGIN:VTIMEZONE
TZID:America/Argentina/Buenos_Aires
BEGIN:STANDARD
TZOFFSETFROM:-0300
TZOFFSETTO:-0300
TZNAME:-03
DTSTART:20230101T000000
END:STANDARD
END:VTIMEZONE
BEGIN:VEVENT
DTSTART;TZID=America/Argentina/Buenos_Aires:20241008T150000
DTEND;TZID=America/Argentina/Buenos_Aires:20241008T170000
DTSTAMP:20260419T174730
CREATED:20250801T124854Z
LAST-MODIFIED:20250801T124854Z
UID:16849-1728399600-1728406800@economicas.uba.ar
SUMMARY:Unconditional quantile partial effects under endogeneity
DESCRIPTION:Seminario de investigación del IIEP \nUnconditional quantile partial effects under endogeneity \nExpositor |  Javier Alejo | IECON-UDELAR-SNI \nAbstract \nThis paper studies identification\, estimation and inference of general unconditional quantile partial effects models under endogeneity. When a valid instrument is available\, we show that\, using a control function approach\, the UQPE can be identified through the conditional average of the conditional quantile partial effects\, given the unconditional quantile of the dependent variable of interest. We propose a semi-parametric two-step estimator. The first step is based on a control function quantile regression method\, and the second step uses a nonparametric estimator to compute the conditional average. This general formulation includes nonparametric regressions and sieve estimators. We apply the proposed methods to estimate the unconditional quantile effects of class size on educational performance. \nCoautores: Sergio Firpo (Insper)\, Antonio Galvao (Michigan State University)\, Julian Martinez-Iriarte (UC Santa Cruz) y Gabriel Montes-Rojas (CONICET-UBA) \nSobre el expositor \nes investigador y docente de la Universidad de la República en Uruguay (UdelaR). Los principales intereses de investigación son la econometría\, la economía laboral y la desigualdad. Ha publicado varios artículos en revistas académicas y capítulos de libros sobre estos temas. \nLugar | FCE-UBA | Aula 235
URL:https://economicas.uba.ar/iiep/eventos/unconditional-quantile-partial-effects-under-endogeneity/
LOCATION:UBA Córdoba\, Av. Córdoba 2122\, Buenos Aires\, Ciudad Autónoma de Buenos Aires\, 1425\, Argentina
CATEGORIES:Seminario IIEP
END:VEVENT
END:VCALENDAR