BEGIN:VCALENDAR
VERSION:2.0
PRODID:-//IIEP UBA-CONICET - ECPv6.15.20//NONSGML v1.0//EN
CALSCALE:GREGORIAN
METHOD:PUBLISH
X-WR-CALNAME:IIEP UBA-CONICET
X-ORIGINAL-URL:https://economicas.uba.ar/iiep
X-WR-CALDESC:Eventos para IIEP UBA-CONICET
REFRESH-INTERVAL;VALUE=DURATION:PT1H
X-Robots-Tag:noindex
X-PUBLISHED-TTL:PT1H
BEGIN:VTIMEZONE
TZID:America/Argentina/Buenos_Aires
BEGIN:STANDARD
TZOFFSETFROM:-0300
TZOFFSETTO:-0300
TZNAME:-03
DTSTART:20230101T000000
END:STANDARD
END:VTIMEZONE
BEGIN:VEVENT
DTSTART;TZID=America/Argentina/Buenos_Aires:20241009T130000
DTEND;TZID=America/Argentina/Buenos_Aires:20241009T150000
DTSTAMP:20260420T005056
CREATED:20250801T125045Z
LAST-MODIFIED:20250801T125045Z
UID:16853-1728478800-1728486000@economicas.uba.ar
SUMMARY:Mitigation or Adaptation to Climate Change? The Role of Fiscal Policy
DESCRIPTION:Seminario IIEP UBA-CONICET \nMitigation or Adaptation to Climate Change? The Role of Fiscal Policy\nExpositor| Mouez Fodha | Paris 1 Panthéon Sorbonne & Paris School of Economics
URL:https://economicas.uba.ar/iiep/eventos/mitigation-or-adaptation-to-climate-change-the-role-of-fiscal-policy/
LOCATION:UBA Córdoba\, Av. Córdoba 2122\, Buenos Aires\, Ciudad Autónoma de Buenos Aires\, 1425\, Argentina
CATEGORIES:Seminario IIEP
END:VEVENT
BEGIN:VEVENT
DTSTART;TZID=America/Argentina/Buenos_Aires:20241009T183000
DTEND;TZID=America/Argentina/Buenos_Aires:20241009T200000
DTSTAMP:20260420T005056
CREATED:20250801T125240Z
LAST-MODIFIED:20250801T125240Z
UID:16856-1728498600-1728504000@economicas.uba.ar
SUMMARY:Aportes al debate sobre la tributación en América Latina
DESCRIPTION:Presentación del libro\nAportes al debate sobre la tributación en América Latina\nEnsayos en homenaje a Juan Carlos Gómez Sabaini (1938-2021) \nExpositores \nAndrés López | IIEP UBA-CONICET\nOscar Cetrángolo y Dalmiro Morán | Compiladores\nMarina dal Poggetto | EcoGo Consultores\nMarcelo Garriga | UNLP\nLuis Quevedo | EUDEBA\nDaniel Titelman | CEPAL \n  \nLugar | FCE-UBA | SUM
URL:https://economicas.uba.ar/iiep/eventos/aportes-al-debate-sobre-la-tributacion-en-america-latina/
LOCATION:UBA Córdoba\, Av. Córdoba 2122\, Buenos Aires\, Ciudad Autónoma de Buenos Aires\, 1425\, Argentina
END:VEVENT
END:VCALENDAR