BEGIN:VCALENDAR
VERSION:2.0
PRODID:-//IIEP UBA-CONICET - ECPv6.15.20//NONSGML v1.0//EN
CALSCALE:GREGORIAN
METHOD:PUBLISH
X-WR-CALNAME:IIEP UBA-CONICET
X-ORIGINAL-URL:https://economicas.uba.ar/iiep
X-WR-CALDESC:Eventos para IIEP UBA-CONICET
REFRESH-INTERVAL;VALUE=DURATION:PT1H
X-Robots-Tag:noindex
X-PUBLISHED-TTL:PT1H
BEGIN:VTIMEZONE
TZID:America/Argentina/Buenos_Aires
BEGIN:STANDARD
TZOFFSETFROM:-0300
TZOFFSETTO:-0300
TZNAME:-03
DTSTART:20230101T000000
END:STANDARD
END:VTIMEZONE
BEGIN:VEVENT
DTSTART;TZID=America/Argentina/Buenos_Aires:20241010T093000
DTEND;TZID=America/Argentina/Buenos_Aires:20241010T130000
DTSTAMP:20260420T035729
CREATED:20250801T125438Z
LAST-MODIFIED:20250903T175741Z
UID:16859-1728552600-1728565200@economicas.uba.ar
SUMMARY:Workshop | Uso económico de los recursos naturales en Agricultura y Energía
DESCRIPTION:Workshop | Uso económico de los recursos naturales en Agricultura y Energía \nEl workshop se realizara por ZOOM solicitar link de acceso aquí + \nComo en cada workshop de MESi el propósito es crear espacio de presentación y discusión interdisciplinar de avances realizados en el marco de Proyectos de Desarrollo Estratégicos de la Universidad de Buenos Aires sobre Políticas de mitigación y adaptación al cambio climático en sectores clave. \nEn esta oportunidad las temáticas que se traerán a la mesa discusión estarán en torno al “Uso económico de los recursos naturales en agricultura y energía”.  Como cada uno de estos sectores tiene sus particularidades\, el workshop estará organizado en 2 medias jornadas (de 9.30 a 13 h) \nJornada 2 | 10/10/2024 – Uso económico de los RRNN en Energía \nInscripción | + \nPrograma | + \n 
URL:https://economicas.uba.ar/iiep/eventos/workshop-uso-economico-de-los-recursos-naturales-en-agricultura-y-energia/
LOCATION:UBA Córdoba\, Av. Córdoba 2122\, Buenos Aires\, Ciudad Autónoma de Buenos Aires\, 1425\, Argentina
END:VEVENT
END:VCALENDAR