BEGIN:VCALENDAR
VERSION:2.0
PRODID:-//IIEP UBA-CONICET - ECPv6.15.20//NONSGML v1.0//EN
CALSCALE:GREGORIAN
METHOD:PUBLISH
X-ORIGINAL-URL:https://economicas.uba.ar/iiep
X-WR-CALDESC:Eventos para IIEP UBA-CONICET
REFRESH-INTERVAL;VALUE=DURATION:PT1H
X-Robots-Tag:noindex
X-PUBLISHED-TTL:PT1H
BEGIN:VTIMEZONE
TZID:America/Argentina/Buenos_Aires
BEGIN:STANDARD
TZOFFSETFROM:-0300
TZOFFSETTO:-0300
TZNAME:-03
DTSTART:20230101T000000
END:STANDARD
END:VTIMEZONE
BEGIN:VEVENT
DTSTART;TZID=America/Argentina/Buenos_Aires:20241024T090000
DTEND;TZID=America/Argentina/Buenos_Aires:20241025T170000
DTSTAMP:20260420T045908
CREATED:20250801T130259Z
LAST-MODIFIED:20250916T124521Z
UID:16873-1729760400-1729875600@economicas.uba.ar
SUMMARY:Workshop Interdisciplinario en “Econometría y Redes Complejas”
DESCRIPTION:El Workshop tiene como objetivo reunir a los docentes\, investigadores y profesionales de diferentes áreas dedicados a las temáticas de aplicaciones de econometría y redes complejas en economía para presentar sus investigaciones\, abrir debate interdisciplinario y discutir las perspectivas futuras del campo\, y generar nuevos conocimientos científicos. Se promoverá especialmente la participación de jóvenes investigadores\,  estudiantes de grado y tesistas de maestría y/o doctorado. \nINSCRIPCIÓN PARA ASISTENTES INGRESAR AQUÍ https://bit.ly/Inscripcion-WS-RC2024 \nPrograma: + \nLugar | FCE-UBA | Aula 212 Segundo piso
URL:https://economicas.uba.ar/iiep/eventos/workshop-interdisciplinario-en-econometria-y-redes-complejas/
LOCATION:UBA Córdoba\, Av. Córdoba 2122\, Buenos Aires\, Ciudad Autónoma de Buenos Aires\, 1425\, Argentina
CATEGORIES:NETLAB
END:VEVENT
BEGIN:VEVENT
DTSTART;TZID=America/Argentina/Buenos_Aires:20241024T170000
DTEND;TZID=America/Argentina/Buenos_Aires:20241024T200000
DTSTAMP:20260420T045908
CREATED:20250801T130125Z
LAST-MODIFIED:20250801T131934Z
UID:16869-1729789200-1729800000@economicas.uba.ar
SUMMARY:Dani Rodrik en la Universidad de Buenos Aires
DESCRIPTION:Programación \n(Traducción Simultánea) \n17 h | Panel de experiencias de colaboración publico-privado en Argentina\nParticipan\nAndrés Michel | Secretario de Políticas Económicas de la Provincia de Córdoba\nNorberto Nigro | Presidente Parque Tecnológico del Litoral Centro (PTLC)\nMaría Laura Palacios | Vocal Titular del Polo IT Buenos Aires\, CEO G&L Group S.A. \nComentarios Dani Rodrik | John F. Kennedy School of Government\, Harvard University\nModera Juan Carlos Hallak | IIEP (UBA-CONICET) \n18 h | Entrega distinción doctorado Honoris Causa a Dani Rodrik\nElogio académico a cargo de Juan Carlos Hallak IIEP (UBA-CONICET) \n18.15 h | Conferencia Magistral a cargo de Dani Rodrik | John F. Kennedy School of Government\, Harvard University\n¿Por qué los mercados necesitan del Estado? Presentación + \n19 h | Conversatorio y preguntas\nModera: Andrés López | IIEP (UBA-CONICET) \nLugar | FCE-UBA | Edificio Anexo | Salón de Actos (Planta baja) \nInscripción previa:  http://www.bit.ly/InscripcionDaniRodrik  \n 
URL:https://economicas.uba.ar/iiep/eventos/dani-rodrik-en-la-universidad-de-buenos-aires/
LOCATION:UBA Córdoba\, Av. Córdoba 2122\, Buenos Aires\, Ciudad Autónoma de Buenos Aires\, 1425\, Argentina
END:VEVENT
END:VCALENDAR