BEGIN:VCALENDAR
VERSION:2.0
PRODID:-//IIEP UBA-CONICET - ECPv6.15.20//NONSGML v1.0//EN
CALSCALE:GREGORIAN
METHOD:PUBLISH
X-WR-CALNAME:IIEP UBA-CONICET
X-ORIGINAL-URL:https://economicas.uba.ar/iiep
X-WR-CALDESC:Eventos para IIEP UBA-CONICET
REFRESH-INTERVAL;VALUE=DURATION:PT1H
X-Robots-Tag:noindex
X-PUBLISHED-TTL:PT1H
BEGIN:VTIMEZONE
TZID:America/Argentina/Buenos_Aires
BEGIN:STANDARD
TZOFFSETFROM:-0300
TZOFFSETTO:-0300
TZNAME:-03
DTSTART:20240101T000000
END:STANDARD
END:VTIMEZONE
BEGIN:VEVENT
DTSTART;TZID=America/Argentina/Buenos_Aires:20250326T130000
DTEND;TZID=America/Argentina/Buenos_Aires:20250326T150000
DTSTAMP:20260419T141131
CREATED:20250801T115838Z
LAST-MODIFIED:20250801T115838Z
UID:16795-1742994000-1743001200@economicas.uba.ar
SUMMARY:Impactos amplios del almacenamiento de energía: lecciones de Argentina
DESCRIPTION:Seminario de Investigación del IIEP \nImpactos Amplios del Almacenamiento de Energía: Lecciones de Argentina \nExpositores | Juan I. Mercatante y Exequiel Romero-Gómez | MESI-IIEP (UBA-CONICET) \nResumen \nLas tecnologías de generación renovable ofrecen beneficios ambientales y económicos significativos. Sin embargo\, su incorporación presenta desafíos: la intermitencia asociada a estas tecnologías puede poner en jaque el sistema eléctrico\, en el cual la demanda y la oferta deben ser iguales en todo momento. En este sentido\, el almacenamiento de electricidad desempeña un papel importante para mitigar estas fluctuaciones y descarbonizar el sector. En este trabajo\, analizamos cómo las tecnologías de almacenamiento de energía podrían configurar la transición hacia una economía baja en carbono\, centrándonos en Argentina como caso de estudio. En este artículo\, desarrollamos un modelo óptimo de despacho eléctrico y un modelo de equilibrio general para examinar tanto los impactos sectoriales como los efectos económicos más amplios. Estimamos ahorros de costos para varios niveles de capacidad de almacenamiento de energía. Además\, evaluamos sus efectos en la actividad agregada\, el bienestar\, la distribución del ingreso y las emisiones. Finalmente\, exploramos cómo el almacenamiento de energía modifica la rentabilidad relativa de los sectores intensivos en electricidad; en este sentido\, identificamos ganadores y perdedores e investigamos posibles cambios estructurales de largo plazo. \n  \nLugar | FCE-UBA | Aula 235
URL:https://economicas.uba.ar/iiep/eventos/impactos-amplios-del-almacenamiento-de-energia-lecciones-de-argentina/
LOCATION:UBA Córdoba\, Av. Córdoba 2122\, Buenos Aires\, Ciudad Autónoma de Buenos Aires\, 1425\, Argentina
CATEGORIES:Seminario IIEP
END:VEVENT
END:VCALENDAR