BEGIN:VCALENDAR
VERSION:2.0
PRODID:-//IIEP UBA-CONICET - ECPv6.15.20//NONSGML v1.0//EN
CALSCALE:GREGORIAN
METHOD:PUBLISH
X-ORIGINAL-URL:https://economicas.uba.ar/iiep
X-WR-CALDESC:Eventos para IIEP UBA-CONICET
REFRESH-INTERVAL;VALUE=DURATION:PT1H
X-Robots-Tag:noindex
X-PUBLISHED-TTL:PT1H
BEGIN:VTIMEZONE
TZID:America/Argentina/Buenos_Aires
BEGIN:STANDARD
TZOFFSETFROM:-0300
TZOFFSETTO:-0300
TZNAME:-03
DTSTART:20240101T000000
END:STANDARD
END:VTIMEZONE
BEGIN:VEVENT
DTSTART;TZID=America/Argentina/Buenos_Aires:20250619T120000
DTEND;TZID=America/Argentina/Buenos_Aires:20250619T140000
DTSTAMP:20260421T090807
CREATED:20250730T122736Z
LAST-MODIFIED:20250730T122736Z
UID:16629-1750334400-1750341600@economicas.uba.ar
SUMMARY:SIDPA | Esteban Serrani
DESCRIPTION:SIDPA |  Esteban Serrani | CESE-UNSAM\, CONICET \nLa ausencia de política industrial en la transición energética argentina: Resultados del Programa RenovAr \nVer +
URL:https://economicas.uba.ar/iiep/eventos/sidpa-esteban-serrani/
LOCATION:UBA Córdoba\, Av. Córdoba 2122\, Buenos Aires\, Ciudad Autónoma de Buenos Aires\, 1425\, Argentina
END:VEVENT
END:VCALENDAR