BEGIN:VCALENDAR
VERSION:2.0
PRODID:-//IIEP UBA-CONICET - ECPv6.15.20//NONSGML v1.0//EN
CALSCALE:GREGORIAN
METHOD:PUBLISH
X-WR-CALNAME:IIEP UBA-CONICET
X-ORIGINAL-URL:https://economicas.uba.ar/iiep
X-WR-CALDESC:Eventos para IIEP UBA-CONICET
REFRESH-INTERVAL;VALUE=DURATION:PT1H
X-Robots-Tag:noindex
X-PUBLISHED-TTL:PT1H
BEGIN:VTIMEZONE
TZID:America/Argentina/Buenos_Aires
BEGIN:STANDARD
TZOFFSETFROM:-0300
TZOFFSETTO:-0300
TZNAME:-03
DTSTART:20240101T000000
END:STANDARD
END:VTIMEZONE
BEGIN:VEVENT
DTSTART;TZID=America/Argentina/Buenos_Aires:20250626T180000
DTEND;TZID=America/Argentina/Buenos_Aires:20250626T200000
DTSTAMP:20260421T230706
CREATED:20250730T123351Z
LAST-MODIFIED:20250730T123351Z
UID:16634-1750960800-1750968000@economicas.uba.ar
SUMMARY:Desafíos para una reforma tributaria en la Argentina
DESCRIPTION:Seminario \nDesafíos para una reforma tributaria en la Argentina\nSeminario debate para compartir diversas propuestas tendientes a implementar una reforma tributaria en la Argentina \nApertura | Andrés López Director IIEP (UBA-CONICET)\n\nExpositores\nItai Hagman | Diputado Nacional y Presidente Fundación por el Desarrollo Humano Integral.\nOsvaldo Giordano | Presidente del IERAL – Fundación Mediterránea.\nPedro Velasco | Investigador UNLP e IIEP (UBA-CONICET).\nGuido Zack | Director del área de Economía de Fundar.\n\nModera: Luciana Tobes | Investigadora UNLP e IIEP (UBA-CONICET).\n\nSobre los expositores\nItai Hagman es un economista y político argentino. Licenciado en Economía (UBA)\, Especialista en Economía Política con mención en Economía Argentina (FLACSO) y docente en UBA y UNDAV. Desde 2019\, se desempeña como Diputado Nacional por Unión por la Patria representando a la Ciudad Autónoma de Buenos Aires. Actualmente preside la Fundación por el Desarrollo Humano Integral. \nOsvaldo Giordano es Presidente del IERAL de la Fundación Mediterránea. Licenciado en Economía de la Universidad Nacional de Córdoba. Ha ocupado diversos roles en el sector público\, como presidente de la Caja de Jubilaciones de Córdoba\, Ministro de Finanzas de Córdoba y Director Ejecutivo de la ANSES. Autor de los libros Una Vacuna contra la Decadencia y Chau Papel. \nPedro Velasco es Mgr en Finanzas Públicas de la UNLP\, Docente de grado en UBA y UNLP\, y lo ha sido en posgrado UBA y UNLP. Actualmente es Titular de la cátedra Sector Público y Sistemas Fiscales de la Maestría en Tributación de la Universidad del Comahue. Investigador de la UBA y UNLP\, e integrante del Observatorio de Política Tributaria de AFISPOP IIEP – UBA CONICET. \nGuido Zack es Director del área de Economía de Fundar. Licenciado en Economía (UBA)\, magíster en Finanzas (Universidad de Alcalá) y magíster y doctor en Análisis Económico Aplicado (Universidades de Alcalá y Complutense de Madrid). Profesor en la UBA\, UNSAM y Universidad de Bologna. Columnista de Cenital. \nOrganizan | IIEP -(UBA-CONICET) y FUNDAR \nLugar | FCE-UBA | SUM | Primer Piso
URL:https://economicas.uba.ar/iiep/eventos/desafios-para-una-reforma-tributaria-en-la-argentina/
LOCATION:UBA Córdoba\, Av. Córdoba 2122\, Buenos Aires\, Ciudad Autónoma de Buenos Aires\, 1425\, Argentina
END:VEVENT
BEGIN:VEVENT
DTSTART;TZID=America/Argentina/Buenos_Aires:20250626T190000
DTEND;TZID=America/Argentina/Buenos_Aires:20250626T210000
DTSTAMP:20260421T230706
CREATED:20250730T123556Z
LAST-MODIFIED:20250730T123556Z
UID:16637-1750964400-1750971600@economicas.uba.ar
SUMMARY:El programa de “economías distribucionales” de Julio H. G. Olivera
DESCRIPTION:Seminario CEHEAL \nClásicos (y no tanto) del pensamiento económico de Julio H. G. Olivera \nSeminario a cargo de Eduardo A. Rodríguez \nFCE-UBA | Aula 239
URL:https://economicas.uba.ar/iiep/eventos/el-programa-de-economias-distribucionales-de-julio-h-g-olivera/
LOCATION:UBA Córdoba\, Av. Córdoba 2122\, Buenos Aires\, Ciudad Autónoma de Buenos Aires\, 1425\, Argentina
END:VEVENT
END:VCALENDAR