BEGIN:VCALENDAR
VERSION:2.0
PRODID:-//IIEP UBA-CONICET - ECPv6.15.20//NONSGML v1.0//EN
CALSCALE:GREGORIAN
METHOD:PUBLISH
X-WR-CALNAME:IIEP UBA-CONICET
X-ORIGINAL-URL:https://economicas.uba.ar/iiep
X-WR-CALDESC:Eventos para IIEP UBA-CONICET
REFRESH-INTERVAL;VALUE=DURATION:PT1H
X-Robots-Tag:noindex
X-PUBLISHED-TTL:PT1H
BEGIN:VTIMEZONE
TZID:America/Argentina/Buenos_Aires
BEGIN:STANDARD
TZOFFSETFROM:-0300
TZOFFSETTO:-0300
TZNAME:-03
DTSTART:20250101T000000
END:STANDARD
END:VTIMEZONE
BEGIN:VEVENT
DTSTART;TZID=America/Argentina/Buenos_Aires:20260416T140000
DTEND;TZID=America/Argentina/Buenos_Aires:20260416T160000
DTSTAMP:20260420T084513
CREATED:20260327T134341Z
LAST-MODIFIED:20260327T134341Z
UID:22583-1776348000-1776355200@economicas.uba.ar
SUMMARY:Seminario | La medición en economía
DESCRIPTION:Seminario | La medición en economía \nLa historia del pensamiento económico está íntimamente entreverada con el desarrollo de técnicas de medición y debates acerca de la mensurabilidad de conceptos tales como la utilidad\, el capital o el desarrollo. \nDesde el siglo pasado existe una sólida teoría formal de la medición\, en parte motivada por los desafíos de la metrización en economía\, que culminó en los setenta con la obra Foundations of Measurement de Suppes\, Krantz\, Luce\, Tversky y otros. Esta teoría está en la base de la definición formal de utilidad así como de conceptos de otras disciplinas. \nSin embargo\, desde hace una década surgen críticas a las limitaciones de este enfoque para formular una metrización que recoja las mediciones que realizan tanto los teóricos como quienes aplican teorías para resolver problemas. \nEn el seminario se discutirán los aspectos históricos\, las críticas contemporáneas y alas alternativas propuestas en sucesivas reuniones mensuales a partir del 16 de abril. \nCoordinan Fermín Marconi y Eduardo Scarano \nLugar | FCE-UBA | Aula Olivera\, 1er piso
URL:https://economicas.uba.ar/iiep/eventos/seminario-la-medicion-en-economia/
LOCATION:UBA Córdoba\, Av. Córdoba 2122\, Buenos Aires\, Ciudad Autónoma de Buenos Aires\, 1425\, Argentina
CATEGORIES:CIECE
END:VEVENT
END:VCALENDAR